BEGIN:VCALENDAR
VERSION:2.0
PRODID:-//Skillshoper - ECPv6.15.20//NONSGML v1.0//EN
CALSCALE:GREGORIAN
METHOD:PUBLISH
X-ORIGINAL-URL:https://skillshoper.com
X-WR-CALDESC:Events for Skillshoper
REFRESH-INTERVAL;VALUE=DURATION:PT1H
X-Robots-Tag:noindex
X-PUBLISHED-TTL:PT1H
BEGIN:VTIMEZONE
TZID:UTC
BEGIN:STANDARD
TZOFFSETFROM:+0000
TZOFFSETTO:+0000
TZNAME:UTC
DTSTART:20240101T000000
END:STANDARD
END:VTIMEZONE
BEGIN:VEVENT
DTSTART;TZID=UTC:20251117T210000
DTEND;TZID=UTC:20251117T220000
DTSTAMP:20260423T231957
CREATED:20251113T084041Z
LAST-MODIFIED:20251113T105901Z
UID:4373-1763413200-1763416800@skillshoper.com
SUMMARY:Orientation Class: Data Science & Machine Learning with Python
DESCRIPTION:Kickstart your journey into the world of Data Science and Machine Learning! Join our Orientation Class to get a complete overview of the course\, understand its real-world applications\, and discover how Python can help you unlock insights from data. \nIn this session\, you will: \n\nLearn what Data Science and Machine Learning are and why they matter in today’s job market.\nUnderstand the Python programming essentials used in data analysis and modeling.\nExplore the course structure\, modules\, and hands-on projects.\nGet tips on how to prepare for a career in Data Science.\nHave your questions answered by industry-expert instructors.\n\nWhether you’re a beginner or looking to level up your career\, this orientation is your first step to becoming a skilled Data Scientist. Don’t miss this chance to see what the course can do for you! \n 
URL:https://skillshoper.com/event/orientation-class-data-science-machine-learning-with-python/
LOCATION:Online
CATEGORIES:Orientation Class
ATTACH;FMTTYPE=image/png:https://skillshoper.com/wp-content/uploads/2025/11/Data-Science-And-Machine-learning-2.png
ORGANIZER;CN="SkillShoper":MAILTO:info.skillshoper@gmail.com
END:VEVENT
END:VCALENDAR